Workbook

Sheet Overview
C5: ECTS overview
C6: Grundlagen Elektrotechnik | D6: Aufbau Elektrotechnik | E6: Mathematik | F6: Naturwissenschaften | G6: Technik | H6: Generell | I6: Bachelorarbeit | J6: Max möglich
C7: ='Semester 1'!F15 + 'Semester 2'!F15 +'Semester 3'!F17 +'Semester 4'!F20 +'Semester 5'!F18 +'Semester 6'!F18+C12 -> 0 | D7: ='Semester 1'!G15 + 'Semester 2'!G15 +'Semester 3'!G17 +'Semester 4'!G20 +'Semester 5'!G18 +'Semester 6'!G18+D12 +IF(D17,8,0) -> 0 | E7: ='Semester 1'!H15 + 'Semester 2'!H15 +'Semester 3'!H17 +'Semester 4'!H20 +'Semester 5'!H18 +'Semester 6'!H18+E12 -> 0 | F7: ='Semester 1'!I15 + 'Semester 2'!I15 +'Semester 3'!I17 +'Semester 4'!I20 +'Semester 5'!I18 +'Semester 6'!I18+F12 -> 0 | G7: ='Semester 1'!J15 + 'Semester 2'!J15 +'Semester 3'!J17 +'Semester 4'!J20 +'Semester 5'!J18 +'Semester 6'!J18+G12 + IF(D17,8,0) -> 0 | H7: ='Semester 1'!K15 + 'Semester 2'!K15 +'Semester 3'!K17 +'Semester 4'!K20 +'Semester 5'!K18 +'Semester 6'!K18+H12 + IF(D17,8,0) + IF(D18,12,0) -> 0 | I7: =IF(D18,12,0) -> 0 | J7: ='Semester 1'!L15 + 'Semester 2'!L15 +'Semester 3'!L17 +'Semester 4'!L20 +'Semester 5'!L18 +'Semester 6'!L18 + 20 + SUM(C12:H12) -> 274
C10: Korrekturfaktoren (externe Fächer)
C11: Grundlagen Elektrotechnik | D11: Aufbau Elektrotechnik | E11: Mathematik | F11: Naturwissenschaften | G11: Technik | H11: Generell
C12: 0 | D12: 0 | E12: 0 | F12: 0 | G12: 0 | H12: 0
C15: SA & BA Zulassung: | D15: =IF(AND(C7>=64,E7>=30),"ja","nein") -> nein | F15: How to : | G15: Häkchen setzen für geplante/ absolvierte Module
G16: Ausgelegt für Studienanfang 23
C17: Sa bestanden: | D17: FALSE | G17: Nicht im Web browser verwenden!
C18: Ba bestanden | D18: FALSE | F18: Note : | G18: Keine Garantien für Richtigkeit
G19: Fehler bitte umgehend melden!
L20: F.ST was here | M20: V 1.0.0

Sheet Semester 1
C3: Fach | E3: Done? | F3: Grundlagen Elektrotechnik | G3: Aufbau Elektrotechnik | H3: Mathematik | I3: Naturwissenschaften | J3: Technik | K3: Generell | L3: max möglich
C4: Elektro- / Amateurfunk-Praktikum 1 | E4: FALSE | F4: =IF(E4,L4,0) -> 0 | G4: 0 | H4: 0 | I4: 0 | J4: =IF(E4,L4,0) -> 0 | K4: =IF(E4,L4,0) -> 0 | L4: 2
C5: Digitaltechnik | E5: FALSE | F5: =IF(E5,L5,0) -> 0 | G5: 0 | H5: 0 | I5: 0 | J5: =IF(E5,L5,0) -> 0 | K5: =IF(E5,L5,0) -> 0 | L5: 3
C6: Programmieren in C | E6: FALSE | F6: =IF(E6,L6,0) -> 0 | G6: 0 | H6: 0 | I6: 0 | J6: =IF(E6,L6,0) -> 0 | K6: =IF(E6,L6,0) -> 0 | L6: 4
C7: Elektrotechnik 1 | E7: FALSE | F7: =IF(E7,L7,0) -> 0 | G7: 0 | H7: 0 | I7: 0 | J7: =IF(E7,L7,0) -> 0 | K7: =IF(E7,L7,0) -> 0 | L7: 3
C8: Analysis 1a für Elektrotechnik | E8: FALSE | F8: 0 | G8: 0 | H8: =IF(E8,L8,0) -> 0 | I8: 0 | J8: =IF(E8,L8,0) -> 0 | K8: =IF(E8,L8,0) -> 0 | L8: 4
C9: Analysis 1b für Elektrotechnik | E9: FALSE | F9: 0 | G9: 0 | H9: =IF(E9,L9,0) -> 0 | I9: 0 | J9: =IF(E9,L9,0) -> 0 | K9: =IF(E9,L9,0) -> 0 | L9: 4
C10: Lineare Algebra | E10: FALSE | F10: 0 | G10: 0 | H10: =IF(E10,L10,0) -> 0 | I10: 0 | J10: =IF(E10,L10,0) -> 0 | K10: =IF(E10,L10,0) -> 0 | L10: 4
C11: Physik 1 | E11: FALSE | F11: 0 | G11: 0 | H11: 0 | I11: =IF(E11,L11,0) -> 0 | J11: =IF(E11,L11,0) -> 0 | K11: =IF(E11,L11,0) -> 0 | L11: 4
C12: English: How things work | E12: FALSE | F12: 0 | G12: 0 | H12: 0 | I12: 0 | J12: 0 | K12: =IF(E12,L12,0) -> 0 | L12: 4
C13: English: The World of Science | E13: FALSE | F13: 0 | G13: 0 | H13: 0 | I13: 0 | J13: 0 | K13: =IF(E13,L13,0) -> 0 | L13: 4
C15: Summe | F15: =SUM(F4:F13) -> 0 | G15: =SUM(G4:G13) -> 0 | H15: =SUM(H4:H13) -> 0 | I15: =SUM(I4:I13) -> 0 | J15: =SUM(J4:J13) -> 0 | K15: =SUM(K4:K13) -> 0 | L15: =SUM(L4:L13) -> 36

Sheet Semester 2
C3: Fach | E3: Done? | F3: Grundlagen Elektrotechnik | G3: Aufbau Elektrotechnik | H3: Mathematik | I3: Naturwissenschaften | J3: Technik | K3: Generell | L3: max möglich
C4: Elektro- / Amateurfunk-Praktikum 2 | E4: FALSE | F4: =IF(E4,L4,0) -> 0 | G4: 0 | H4: 0 | I4: 0 | J4: =IF(E4,L4,0) -> 0 | K4: =IF(E4,L4,0) -> 0 | L4: 2
C5: Computer Engineering 1 | E5: FALSE | F5: =IF(E5,L5,0) -> 0 | G5: 0 | H5: 0 | I5: 0 | J5: =IF(E5,L5,0) -> 0 | K5: =IF(E5,L5,0) -> 0 | L5: 3
C6: Programmieren in C++ | E6: FALSE | F6: =IF(E6,L6,0) -> 0 | G6: 0 | H6: 0 | I6: 0 | J6: =IF(E6,L6,0) -> 0 | K6: =IF(E6,L6,0) -> 0 | L6: 4
C7: Elektrotechnik 2 | E7: FALSE | F7: =IF(E7,L7,0) -> 0 | G7: 0 | H7: 0 | I7: 0 | J7: =IF(E7,L7,0) -> 0 | K7: =IF(E7,L7,0) -> 0 | L7: 3
C8: Analysis 2a für Elektrotechnik | E8: FALSE | F8: 0 | G8: 0 | H8: =IF(E8,L8,0) -> 0 | I8: 0 | J8: =IF(E8,L8,0) -> 0 | K8: =IF(E8,L8,0) -> 0 | L8: 4
C9: Analysis 2b für Elektrotechnik | E9: FALSE | F9: 0 | G9: 0 | H9: =IF(E9,L9,0) -> 0 | I9: 0 | J9: =IF(E9,L9,0) -> 0 | K9: =IF(E9,L9,0) -> 0 | L9: 4
C10: Komplexe Zahlen und Fourierreihen | E10: FALSE | F10: 0 | G10: 0 | H10: =IF(E10,L10,0) -> 0 | I10: 0 | J10: =IF(E10,L10,0) -> 0 | K10: =IF(E10,L10,0) -> 0 | L10: 4
C11: Physik 2 | E11: FALSE | F11: 0 | G11: 0 | H11: 0 | I11: =IF(E11,L11,0) -> 0 | J11: =IF(E11,L11,0) -> 0 | K11: =IF(E11,L11,0) -> 0 | L11: 4
C12: English: Selling Technology | E12: FALSE | F12: 0 | G12: 0 | H12: 0 | I12: 0 | J12: 0 | K12: =IF(E12,L12,0) -> 0 | L12: 4
C13: English: Where tech meets BEC | E13: FALSE | F13: 0 | G13: 0 | H13: 0 | I13: 0 | J13: 0 | K13: =IF(E13,L13,0) -> 0 | L13: 4
C15: Summe | F15: =SUM(F4:F13) -> 0 | G15: =SUM(G4:G13) -> 0 | H15: =SUM(H4:H13) -> 0 | I15: =SUM(I4:I13) -> 0 | J15: =SUM(J4:J13) -> 0 | K15: =SUM(K4:K13) -> 0 | L15: =SUM(L4:L13) -> 36

Sheet Semester 3
C3: Fach | E3: Done? | F3: Grundlagen Elektrotechnik | G3: Aufbau Elektrotechnik | H3: Mathematik | I3: Naturwissenschaften | J3: Technik | K3: Generell | L3: max möglich
C4: Elektronik 1 | E4: FALSE | F4: =IF(E4,L4,0) -> 0 | G4: 0 | H4: 0 | I4: 0 | J4: =IF(E4,L4,0) -> 0 | K4: =IF(E4,L4,0) -> 0 | L4: 3
C5: Computer Engineering 2 | E5: FALSE | F5: =IF(E5,L5,0) -> 0 | G5: 0 | H5: 0 | I5: 0 | J5: =IF(E5,L5,0) -> 0 | K5: =IF(E5,L5,0) -> 0 | L5: 3
C6: Java für C++ Programmierer | E6: FALSE | F6: =IF(E6,L6,0) -> 0 | G6: 0 | H6: 0 | I6: 0 | J6: =IF(E6,L6,0) -> 0 | K6: =IF(E6,L6,0) -> 0 | L6: 3
C7: Projektmanagement und Software Engineering | E7: FALSE | F7: =IF(E7,L7,0) -> 0 | G7: 0 | H7: 0 | I7: 0 | J7: =IF(E7,L7,0) -> 0 | K7: =IF(E7,L7,0) -> 0 | L7: 3
C8: Signale und Systeme 1 | E8: FALSE | F8: =IF(E8,L8,0) -> 0 | G8: 0 | H8: 0 | I8: 0 | J8: =IF(E8,L8,0) -> 0 | K8: =IF(E8,L8,0) -> 0 | L8: 3
C9: Regelungstechnik 1 | E9: FALSE | F9: =IF(E9,L9,0) -> 0 | G9: 0 | H9: 0 | I9: 0 | J9: =IF(E9,L9,0) -> 0 | K9: =IF(E9,L9,0) -> 0 | L9: 3
C10: Nachrichtentechnik 1 | E10: FALSE | F10: =IF(E10,L10,0) -> 0 | G10: 0 | H10: 0 | I10: 0 | J10: =IF(E10,L10,0) -> 0 | K10: =IF(E10,L10,0) -> 0 | L10: 3
C11: Wechsel- und Drehstromtechnik | E11: FALSE | F11: =IF(E11,L11,0) -> 0 | G11: 0 | H11: 0 | I11: 0 | J11: =IF(E11,L11,0) -> 0 | K11: =IF(E11,L11,0) -> 0 | L11: 3
C12: Elektrotechnik 3 | E12: FALSE | F12: =IF(E12,L12,0) -> 0 | G12: 0 | H12: 0 | I12: 0 | J12: =IF(E12,L12,0) -> 0 | K12: =IF(E12,L12,0) -> 0 | L12: 3
C13: Wahrscheinlichkeitsrechnung und Statistik | E13: FALSE | F13: 0 | G13: 0 | H13: =IF(E13,L13,0) -> 0 | I13: 0 | J13: =IF(E13,L13,0) -> 0 | K13: =IF(E13,L13,0) -> 0 | L13: 4
C14: Integraltransformationen | E14: FALSE | F14: 0 | G14: 0 | H14: =IF(E14,L14,0) -> 0 | I14: 0 | J14: =IF(E14,L14,0) -> 0 | K14: =IF(E14,L14,0) -> 0 | L14: 2
C15: Physik 3 | E15: FALSE | F15: 0 | G15: 0 | H15: 0 | I15: =IF(E15,L15,0) -> 0 | J15: =IF(E15,L15,0) -> 0 | K15: =IF(E15,L15,0) -> 0 | L15: 4
C17: Summe | F17: =SUM(F4:F15) -> 0 | G17: =SUM(G4:G15) -> 0 | H17: =SUM(H4:H15) -> 0 | I17: =SUM(I4:I15) -> 0 | J17: =SUM(J4:J15) -> 0 | K17: =SUM(K4:K15) -> 0 | L17: =SUM(L4:L15) -> 37

Sheet Semester 4
C3: Fach | E3: Done? | F3: Grundlagen Elektrotechnik | G3: Aufbau Elektrotechnik | H3: Mathematik | I3: Naturwissenschaften | J3: Technik | K3: Generell | L3: max möglich
C4: Elektronik 2 | E4: FALSE | F4: =IF(E4,L4,0) -> 0 | G4: 0 | H4: 0 | I4: 0 | J4: =IF(E4,L4,0) -> 0 | K4: =IF(E4,L4,0) -> 0 | L4: 3
C5: Digital Design | E5: FALSE | F5: =IF(E5,L5,0) -> 0 | G5: 0 | H5: 0 | I5: 0 | J5: =IF(E5,L5,0) -> 0 | K5: =IF(E5,L5,0) -> 0 | L5: 3
C6: Python | E6: FALSE | F6: =IF(E6,L6,0) -> 0 | G6: 0 | H6: 0 | I6: 0 | J6: =IF(E6,L6,0) -> 0 | K6: =IF(E6,L6,0) -> 0 | L6: 3
C7: OO-Analyse und Design | E7: FALSE | F7: =IF(E7,L7,0) -> 0 | G7: 0 | H7: 0 | I7: 0 | J7: =IF(E7,L7,0) -> 0 | K7: =IF(E7,L7,0) -> 0 | L7: 3
C8: Signale und Systeme 2 | E8: FALSE | F8: =IF(E8,L8,0) -> 0 | G8: 0 | H8: 0 | I8: 0 | J8: =IF(E8,L8,0) -> 0 | K8: =IF(E8,L8,0) -> 0 | L8: 3
C9: Regelungstechnik 2 | E9: FALSE | F9: =IF(E9,L9,0) -> 0 | G9: 0 | H9: 0 | I9: 0 | J9: =IF(E9,L9,0) -> 0 | K9: =IF(E9,L9,0) -> 0 | L9: 3
C10: Mathematisches Seminar 1 | E10: FALSE | F10: 0 | G10: 0 | H10: 0 | I10: 0 | J10: =IF(E10,L10,0) -> 0 | K10: =IF(E10,L10,0) -> 0 | L10: 2
C11: Nachrichtentechnik 2 | E11: FALSE | F11: =IF(E11,L11,0) -> 0 | G11: 0 | H11: 0 | I11: 0 | J11: =IF(E11,L11,0) -> 0 | K11: =IF(E11,L11,0) -> 0 | L11: 3
C12: Elektrische Maschinen | E12: FALSE | F12: =IF(E12,L12,0) -> 0 | G12: 0 | H12: 0 | I12: 0 | J12: =IF(E12,L12,0) -> 0 | K12: =IF(E12,L12,0) -> 0 | L12: 3
C13: Elektrotechnik 4 | E13: FALSE | F13: =IF(E13,L13,0) -> 0 | G13: 0 | H13: 0 | I13: 0 | J13: =IF(E13,L13,0) -> 0 | K13: =IF(E13,L13,0) -> 0 | L13: 3
C14: Funktionen mehrerer Variablen | E14: FALSE | F14: 0 | G14: 0 | H14: =IF(E14,L14,0) -> 0 | I14: 0 | J14: =IF(E14,L14,0) -> 0 | K14: =IF(E14,L14,0) -> 0 | L14: 4
C15: Physikpraktikum | E15: FALSE | F15: 0 | G15: 0 | H15: 0 | I15: =IF(E15,L15,0) -> 0 | J15: =IF(E15,L15,0) -> 0 | K15: =IF(E15,L15,0) -> 0 | L15: 2
C16: Elektrochemie | E16: FALSE | F16: 0 | G16: 0 | H16: 0 | I16: =IF(E16,L16,0) -> 0 | J16: =IF(E16,L16,0) -> 0 | K16: =IF(E16,L16,0) -> 0 | L16: 2
C17: Halbleiterphysik | E17: FALSE | F17: 0 | G17: 0 | H17: 0 | I17: =IF(E17,L17,0) -> 0 | J17: =IF(E17,L17,0) -> 0 | K17: =IF(E17,L17,0) -> 0 | L17: 2
C18: Kommunikation 2 für Ing. | E18: FALSE | F18: 0 | G18: 0 | H18: 0 | I18: 0 | J18: 0 | K18: =IF(E18,L18,0) -> 0 | L18: 4
C20: Summe | F20: =SUM(F4:F18) -> 0 | G20: =SUM(G4:G18) -> 0 | H20: =SUM(H4:H18) -> 0 | I20: =SUM(I4:I18) -> 0 | J20: =SUM(J4:J18) -> 0 | K20: =SUM(K4:K18) -> 0 | L20: =SUM(L4:L18) -> 43

Sheet Semester 5
C3: Fach | E3: Done? | F3: Grundlagen Elektrotechnik | G3: Aufbau Elektrotechnik | H3: Mathematik | I3: Naturwissenschaften | J3: Technik | K3: Generell | L3: max möglich
C4: Sensorik 1 | E4: FALSE | F4: 0 | G4: =IF(E4,L4,0) -> 0 | H4: 0 | I4: 0 | J4: =IF(E4,L4,0) -> 0 | K4: =IF(E4,L4,0) -> 0 | L4: 4
C5: Digital Microelectronics | E5: FALSE | F5: 0 | G5: =IF(E5,L5,0) -> 0 | H5: 0 | I5: 0 | J5: =IF(E5,L5,0) -> 0 | K5: =IF(E5,L5,0) -> 0 | L5: 4
C6: Embedded Systems 1 | E6: FALSE | F6: 0 | G6: =IF(E6,L6,0) -> 0 | H6: 0 | I6: 0 | J6: =IF(E6,L6,0) -> 0 | K6: =IF(E6,L6,0) -> 0 | L6: 4
C7: Embedded Software Engineering 1 | E7: FALSE | F7: 0 | G7: =IF(E7,L7,0) -> 0 | H7: 0 | I7: 0 | J7: =IF(E7,L7,0) -> 0 | K7: =IF(E7,L7,0) -> 0 | L7: 4
C8: Image Processing and Computer Vision 1 | E8: FALSE | F8: 0 | G8: =IF(E8,L8,0) -> 0 | H8: 0 | I8: 0 | J8: =IF(E8,L8,0) -> 0 | K8: =IF(E8,L8,0) -> 0 | L8: 4
C9: Digital Signal Processing 1 | E9: FALSE | F9: 0 | G9: =IF(E9,L9,0) -> 0 | H9: 0 | I9: 0 | J9: =IF(E9,L9,0) -> 0 | K9: =IF(E9,L9,0) -> 0 | L9: 4
C10: Statistical Machine Learning | E10: FALSE | F10: 0 | G10: =IF(E10,L10,0) -> 0 | H10: 0 | I10: 0 | J10: =IF(E10,L10,0) -> 0 | K10: =IF(E10,L10,0) -> 0 | L10: 4
C11: Regelungstechnik 3 | E11: FALSE | F11: 0 | G11: =IF(E11,L11,0) -> 0 | H11: 0 | I11: 0 | J11: =IF(E11,L11,0) -> 0 | K11: =IF(E11,L11,0) -> 0 | L11: 4
C12: Wireless Communications 1 | E12: FALSE | F12: 0 | G12: =IF(E12,L12,0) -> 0 | H12: 0 | I12: 0 | J12: =IF(E12,L12,0) -> 0 | K12: =IF(E12,L12,0) -> 0 | L12: 4
C13: Leistungselektronik | E13: FALSE | F13: 0 | G13: =IF(E13,L13,0) -> 0 | H13: 0 | I13: 0 | J13: =IF(E13,L13,0) -> 0 | K13: =IF(E13,L13,0) -> 0 | L13: 4
C14: Angewandter Elektromagnetismus: Felder und Wellen | E14: FALSE | F14: 0 | G14: =IF(E14,L14,0) -> 0 | H14: 0 | I14: 0 | J14: =IF(E14,L14,0) -> 0 | K14: =IF(E14,L14,0) -> 0 | L14: 4
C15: Business und Recht 1 | E15: FALSE | F15: 0 | G15: 0 | H15: 0 | I15: 0 | J15: =IF(E15,L15,0) -> 0 | K15: =IF(E15,L15,0) -> 0 | L15: 4
C16: Rhetorische Komm. für Ing. | E16: FALSE | F16: 0 | G16: 0 | H16: 0 | I16: 0 | J16: =IF(E16,L16,0) -> 0 | K16: =IF(E16,L16,0) -> 0 | L16: 4
C18: Summe | F18: =SUM(F4:F16) -> 0 | G18: =SUM(G4:G16) -> 0 | H18: =SUM(H4:H16) -> 0 | I18: =SUM(I4:I16) -> 0 | J18: =SUM(J4:J16) -> 0 | K18: =SUM(K4:K16) -> 0 | L18: =SUM(L4:L16) -> 52

Sheet Semester 6
C3: Fach | E3: Done? | F3: Grundlagen Elektrotechnik | G3: Aufbau Elektrotechnik | H3: Mathematik | I3: Naturwissenschaften | J3: Technik | K3: Generell | L3: max möglich
C4: Sensorik 2 | E4: FALSE | F4: 0 | G4: =IF(E4,L4,0) -> 0 | H4: 0 | I4: 0 | J4: =IF(E4,L4,0) -> 0 | K4: =IF(E4,L4,0) -> 0 | L4: 4
C5: Analog Microelectronics | E5: FALSE | F5: 0 | G5: =IF(E5,L5,0) -> 0 | H5: 0 | I5: 0 | J5: =IF(E5,L5,0) -> 0 | K5: =IF(E5,L5,0) -> 0 | L5: 4
C6: Embedded Systems 2 | E6: FALSE | F6: 0 | G6: =IF(E6,L6,0) -> 0 | H6: 0 | I6: 0 | J6: =IF(E6,L6,0) -> 0 | K6: =IF(E6,L6,0) -> 0 | L6: 4
C7: Embedded Software Engineering 2 | E7: FALSE | F7: 0 | G7: =IF(E7,L7,0) -> 0 | H7: 0 | I7: 0 | J7: =IF(E7,L7,0) -> 0 | K7: =IF(E7,L7,0) -> 0 | L7: 4
C8: Image Processing and Computer Vision 2 | E8: FALSE | F8: 0 | G8: =IF(E8,L8,0) -> 0 | H8: 0 | I8: 0 | J8: =IF(E8,L8,0) -> 0 | K8: =IF(E8,L8,0) -> 0 | L8: 4
C9: Digital Signal Processing 2 | E9: FALSE | F9: 0 | G9: =IF(E9,L9,0) -> 0 | H9: 0 | I9: 0 | J9: =IF(E9,L9,0) -> 0 | K9: =IF(E9,L9,0) -> 0 | L9: 4
C10: Deep Learning | E10: FALSE | F10: 0 | G10: =IF(E10,L10,0) -> 0 | H10: 0 | I10: 0 | J10: =IF(E10,L10,0) -> 0 | K10: =IF(E10,L10,0) -> 0 | L10: 4
C11: Regelungstechnik 4 | E11: FALSE | F11: 0 | G11: =IF(E11,L11,0) -> 0 | H11: 0 | I11: 0 | J11: =IF(E11,L11,0) -> 0 | K11: =IF(E11,L11,0) -> 0 | L11: 4
C12: Wireless Communications 2 | E12: FALSE | F12: 0 | G12: =IF(E12,L12,0) -> 0 | H12: 0 | I12: 0 | J12: =IF(E12,L12,0) -> 0 | K12: =IF(E12,L12,0) -> 0 | L12: 4
C13: Energiesysteme | E13: FALSE | F13: 0 | G13: =IF(E13,L13,0) -> 0 | H13: 0 | I13: 0 | J13: =IF(E13,L13,0) -> 0 | K13: =IF(E13,L13,0) -> 0 | L13: 4
C14: Mathematisches Seminar 2 | E14: FALSE | F14: 0 | G14: 0 | H14: 0 | I14: 0 | J14: =IF(E14,L14,0) -> 0 | K14: =IF(E14,L14,0) -> 0 | L14: 2
C15: Business und Recht 2 | E15: FALSE | F15: 0 | G15: 0 | H15: 0 | I15: 0 | J15: =IF(E15,L15,0) -> 0 | K15: =IF(E15,L15,0) -> 0 | L15: 4
C16: VWL und Technikgeschichte | E16: FALSE | F16: 0 | G16: 0 | H16: 0 | I16: 0 | J16: =IF(E16,L16,0) -> 0 | K16: =IF(E16,L16,0) -> 0 | L16: 4
C18: Summe | F18: =SUM(F4:F16) -> 0 | G18: =SUM(G4:G16) -> 0 | H18: =SUM(H4:H16) -> 0 | I18: =SUM(I4:I16) -> 0 | J18: =SUM(J4:J16) -> 0 | K18: =SUM(K4:K16) -> 0 | L18: =SUM(L4:L16) -> 50
